Package: garfield Version: 1.35.0 Command: /home/biocbuild/bbs-3.21-bioc/R/bin/R CMD INSTALL garfield StartedAt: 2025-02-09 15:02:36 -0500 (Sun, 09 Feb 2025) EndedAt: 2025-02-09 15:02:50 -0500 (Sun, 09 Feb 2025) EllapsedTime: 13.7 seconds RetCode: 0 Status: OK