Package: gatom Version: 1.5.0 Maintainer: Alexey Sergushichev MaintainerEmail: alsergbox at gmail.com git_url: https://git.bioconductor.org/packages/gatom git_branch: devel git_last_commit: 97bd9cf git_last_commit_date: 2024-10-29 11:24:47 -0500 (Tue, 29 Oct 2024)