Package: gatom Version: 1.5.0 Command: rm -rf gatom.buildbin-libdir && mkdir gatom.buildbin-libdir && /Users/biocbuild/BBS/utils/build-universal.sh gatom_1.5.0.tar.gz /Library/Frameworks/R.framework/Resources/bin/R gatom.buildbin-libdir StartedAt: 2025-02-09 22:15:00 -0500 (Sun, 09 Feb 2025) EndedAt: 2025-02-09 22:15:08 -0500 (Sun, 09 Feb 2025) EllapsedTime: 8.1 seconds RetCode: 0 Status: OK PackageFile: gatom_1.5.0.tgz PackageFileSize: 1.789 MiB