Package: gatom Version: 1.5.0 Command: /Library/Frameworks/R.framework/Resources/bin/R CMD check --install=check:gatom.install-out.txt --library=/Library/Frameworks/R.framework/Resources/library --no-vignettes --timings gatom_1.5.0.tar.gz StartedAt: 2025-02-03 19:55:31 -0500 (Mon, 03 Feb 2025) EndedAt: 2025-02-03 19:57:17 -0500 (Mon, 03 Feb 2025) EllapsedTime: 106.3 seconds RetCode: 1 Status: ERROR CheckDir: gatom.Rcheck Warnings: NA