Package: gatom Version: 1.5.0 Command: /Library/Frameworks/R.framework/Resources/bin/R CMD INSTALL gatom StartedAt: 2025-02-09 15:14:47 -0500 (Sun, 09 Feb 2025) EndedAt: 2025-02-09 15:14:54 -0500 (Sun, 09 Feb 2025) EllapsedTime: 6.6 seconds RetCode: 0 Status: OK