Package: gatom Version: 1.5.0 Command: /home/biocbuild/R/R/bin/R CMD check --install=check:gatom.install-out.txt --library=/home/biocbuild/R/R/site-library --no-vignettes --timings gatom_1.5.0.tar.gz StartedAt: 2025-01-28 10:45:18 -0000 (Tue, 28 Jan 2025) EndedAt: 2025-01-28 10:50:21 -0000 (Tue, 28 Jan 2025) EllapsedTime: 303.2 seconds RetCode: 0 Status: OK CheckDir: gatom.Rcheck Warnings: 0