Package: gatom Version: 1.5.0 Command: rm -rf gatom.buildbin-libdir && mkdir gatom.buildbin-libdir && /Users/biocbuild/BBS/utils/build-universal.sh gatom_1.5.0.tar.gz /Library/Frameworks/R.framework/Resources/bin/R gatom.buildbin-libdir StartedAt: 2025-02-04 00:35:02 -0500 (Tue, 04 Feb 2025) EndedAt: 2025-02-04 00:35:27 -0500 (Tue, 04 Feb 2025) EllapsedTime: 25.3 seconds RetCode: 0 Status: OK PackageFile: gatom_1.5.0.tgz PackageFileSize: 1.786 MiB