Package: gatom Version: 1.5.0 Command: /Library/Frameworks/R.framework/Resources/bin/R CMD check --install=check:gatom.install-out.txt --library=/Library/Frameworks/R.framework/Resources/library --no-vignettes --timings gatom_1.5.0.tar.gz StartedAt: 2025-02-09 20:48:20 -0500 (Sun, 09 Feb 2025) EndedAt: 2025-02-09 20:53:13 -0500 (Sun, 09 Feb 2025) EllapsedTime: 292.8 seconds RetCode: 1 Status: ERROR CheckDir: gatom.Rcheck Warnings: NA