Package: gatom Version: 1.5.0 Command: /home/biocbuild/bbs-3.21-bioc/R/bin/R CMD build --keep-empty-dirs --no-resave-data gatom StartedAt: 2025-02-09 17:18:55 -0500 (Sun, 09 Feb 2025) EndedAt: 2025-02-09 17:24:23 -0500 (Sun, 09 Feb 2025) EllapsedTime: 328.4 seconds RetCode: 0 Status: OK PackageFile: gatom_1.5.0.tar.gz PackageFileSize: 1.608 MiB