Package: gatom Version: 1.5.0 Command: /home/biocbuild/bbs-3.21-bioc/R/bin/R CMD check --install=check:gatom.install-out.txt --library=/home/biocbuild/bbs-3.21-bioc/R/site-library --timings gatom_1.5.0.tar.gz StartedAt: 2025-02-03 22:35:31 -0500 (Mon, 03 Feb 2025) EndedAt: 2025-02-03 22:44:37 -0500 (Mon, 03 Feb 2025) EllapsedTime: 545.8 seconds RetCode: 0 Status: OK CheckDir: gatom.Rcheck Warnings: 0