Package: gatom Version: 1.5.0 Command: /home/biocbuild/bbs-3.21-bioc/R/bin/R CMD INSTALL gatom StartedAt: 2025-02-03 15:34:09 -0500 (Mon, 03 Feb 2025) EndedAt: 2025-02-03 15:34:25 -0500 (Mon, 03 Feb 2025) EllapsedTime: 16.0 seconds RetCode: 0 Status: OK