Package: gatom Version: 1.5.0 Command: chmod a+r gatom -R && E:\biocbuild\bbs-3.21-bioc\R\bin\R.exe CMD build --keep-empty-dirs --no-resave-data gatom StartedAt: 2025-02-03 19:00:46 -0500 (Mon, 03 Feb 2025) EndedAt: 2025-02-03 19:07:47 -0500 (Mon, 03 Feb 2025) EllapsedTime: 420.7 seconds RetCode: 0 Status: OK PackageFile: gatom_1.5.0.tar.gz PackageFileSize: 1.609 MiB