Package: gcapc Version: 1.31.0 Command: /Library/Frameworks/R.framework/Resources/bin/R CMD build --keep-empty-dirs --no-resave-data gcapc StartedAt: 2025-02-12 16:22:15 -0500 (Wed, 12 Feb 2025) EndedAt: 2025-02-12 16:23:35 -0500 (Wed, 12 Feb 2025) EllapsedTime: 79.9 seconds RetCode: 0 Status: OK PackageFile: gcapc_1.31.0.tar.gz PackageFileSize: 3.791 MiB