Package: gcapc Version: 1.31.0 Command: /Library/Frameworks/R.framework/Resources/bin/R CMD check --install=check:gcapc.install-out.txt --library=/Library/Frameworks/R.framework/Resources/library --no-vignettes --timings gcapc_1.31.0.tar.gz StartedAt: 2025-02-12 19:22:11 -0500 (Wed, 12 Feb 2025) EndedAt: 2025-02-12 19:24:40 -0500 (Wed, 12 Feb 2025) EllapsedTime: 148.8 seconds RetCode: 0 Status: OK CheckDir: gcapc.Rcheck Warnings: 0