Package: gcapc Version: 1.31.0 Command: /Library/Frameworks/R.framework/Resources/bin/R CMD build --keep-empty-dirs --no-resave-data gcapc StartedAt: 2025-02-09 16:49:12 -0500 (Sun, 09 Feb 2025) EndedAt: 2025-02-09 16:53:07 -0500 (Sun, 09 Feb 2025) EllapsedTime: 234.4 seconds RetCode: 0 Status: OK PackageFile: gcapc_1.31.0.tar.gz PackageFileSize: 3.791 MiB