Package: gcapc Version: 1.31.0 Command: /Library/Frameworks/R.framework/Resources/bin/R CMD check --install=check:gcapc.install-out.txt --library=/Library/Frameworks/R.framework/Resources/library --no-vignettes --timings gcapc_1.31.0.tar.gz StartedAt: 2025-02-09 20:48:52 -0500 (Sun, 09 Feb 2025) EndedAt: 2025-02-09 20:56:14 -0500 (Sun, 09 Feb 2025) EllapsedTime: 441.6 seconds RetCode: 0 Status: OK CheckDir: gcapc.Rcheck Warnings: 0