Package: gcapc Version: 1.31.0 Command: /home/biocbuild/bbs-3.21-bioc/R/bin/R CMD build --keep-empty-dirs --no-resave-data gcapc StartedAt: 2025-02-12 17:15:41 -0500 (Wed, 12 Feb 2025) EndedAt: 2025-02-12 17:19:18 -0500 (Wed, 12 Feb 2025) EllapsedTime: 217.3 seconds RetCode: 0 Status: OK PackageFile: gcapc_1.31.0.tar.gz PackageFileSize: 3.81 MiB