Package: gcapc Version: 1.31.0 Command: /home/biocbuild/bbs-3.21-bioc/R/bin/R CMD check --install=check:gcapc.install-out.txt --library=/home/biocbuild/bbs-3.21-bioc/R/site-library --timings gcapc_1.31.0.tar.gz StartedAt: 2025-02-09 22:27:36 -0500 (Sun, 09 Feb 2025) EndedAt: 2025-02-09 22:37:09 -0500 (Sun, 09 Feb 2025) EllapsedTime: 572.9 seconds RetCode: 0 Status: OK CheckDir: gcapc.Rcheck Warnings: 0