Package: gcatest Version: 2.7.0 Command: rm -rf gcatest.buildbin-libdir && mkdir gcatest.buildbin-libdir && /Users/biocbuild/BBS/utils/build-universal.sh gcatest_2.7.0.tar.gz /Library/Frameworks/R.framework/Resources/bin/R gcatest.buildbin-libdir StartedAt: 2025-02-09 22:15:01 -0500 (Sun, 09 Feb 2025) EndedAt: 2025-02-09 22:15:04 -0500 (Sun, 09 Feb 2025) EllapsedTime: 3.0 seconds RetCode: 0 Status: OK PackageFile: gcatest_2.7.0.tgz PackageFileSize: 3.549 MiB