Package: gcatest Version: 2.7.0 Command: /Library/Frameworks/R.framework/Resources/bin/R CMD INSTALL gcatest StartedAt: 2025-02-09 15:02:20 -0500 (Sun, 09 Feb 2025) EndedAt: 2025-02-09 15:02:27 -0500 (Sun, 09 Feb 2025) EllapsedTime: 6.9 seconds RetCode: 0 Status: OK