Package: gcatest Version: 2.7.0 Command: /home/biocbuild/R/R/bin/R CMD build --keep-empty-dirs --no-resave-data gcatest StartedAt: 2025-01-28 23:01:00 -0000 (Tue, 28 Jan 2025) EndedAt: 2025-01-28 23:01:29 -0000 (Tue, 28 Jan 2025) EllapsedTime: 29.0 seconds RetCode: 0 Status: OK PackageFile: gcatest_2.7.0.tar.gz PackageFileSize: 2.215 MiB