Package: gcatest Version: 2.7.0 Command: /home/biocbuild/bbs-3.21-bioc/R/bin/R CMD check --install=check:gcatest.install-out.txt --library=/home/biocbuild/bbs-3.21-bioc/R/site-library --timings gcatest_2.7.0.tar.gz StartedAt: 2025-02-03 22:36:30 -0500 (Mon, 03 Feb 2025) EndedAt: 2025-02-03 22:37:20 -0500 (Mon, 03 Feb 2025) EllapsedTime: 50.1 seconds RetCode: 0 Status: OK CheckDir: gcatest.Rcheck Warnings: 0