Package: gcatest Version: 2.7.0 Command: /home/biocbuild/bbs-3.21-bioc/R/bin/R CMD INSTALL gcatest StartedAt: 2025-02-09 15:05:59 -0500 (Sun, 09 Feb 2025) EndedAt: 2025-02-09 15:06:15 -0500 (Sun, 09 Feb 2025) EllapsedTime: 16.2 seconds RetCode: 0 Status: OK