Package: gcatest Version: 2.7.0 Command: rm -rf gcatest.buildbin-libdir && mkdir gcatest.buildbin-libdir && E:\biocbuild\bbs-3.21-bioc\R\bin\R.exe CMD INSTALL --build --library=gcatest.buildbin-libdir gcatest_2.7.0.tar.gz StartedAt: 2025-02-05 07:58:34 -0500 (Wed, 05 Feb 2025) EndedAt: 2025-02-05 07:58:42 -0500 (Wed, 05 Feb 2025) EllapsedTime: 8.1 seconds RetCode: 0 Status: OK PackageFile: gcatest_2.7.0.zip PackageFileSize: 3.547 MiB