Package: gcatest Version: 2.7.0 Command: E:\biocbuild\bbs-3.21-bioc\R\bin\R.exe CMD check --no-multiarch --install=check:gcatest.install-out.txt --library=E:\biocbuild\bbs-3.21-bioc\R\library --no-vignettes --timings gcatest_2.7.0.tar.gz StartedAt: 2025-02-05 01:43:33 -0500 (Wed, 05 Feb 2025) EndedAt: 2025-02-05 01:44:42 -0500 (Wed, 05 Feb 2025) EllapsedTime: 68.9 seconds RetCode: 0 Status: OK CheckDir: gcatest.Rcheck Warnings: 0