Package: gcatest Version: 2.7.0 Command: E:\biocbuild\bbs-3.21-bioc\R\bin\R.exe CMD INSTALL gcatest StartedAt: 2025-02-04 15:20:55 -0500 (Tue, 04 Feb 2025) EndedAt: 2025-02-04 15:21:04 -0500 (Tue, 04 Feb 2025) EllapsedTime: 8.8 seconds RetCode: 0 Status: OK