Package: gcrma Version: 2.79.0 Command: /home/biocbuild/R/R/bin/R CMD check --install=check:gcrma.install-out.txt --library=/home/biocbuild/R/R/site-library --no-vignettes --timings gcrma_2.79.0.tar.gz StartedAt: 2025-01-28 10:46:05 -0000 (Tue, 28 Jan 2025) EndedAt: 2025-01-28 10:48:16 -0000 (Tue, 28 Jan 2025) EllapsedTime: 131.1 seconds RetCode: 0 Status: OK CheckDir: gcrma.Rcheck Warnings: 0