Package: gcrma Version: 2.79.0 Command: rm -rf gcrma.buildbin-libdir && mkdir gcrma.buildbin-libdir && /Users/biocbuild/BBS/utils/build-universal.sh gcrma_2.79.0.tar.gz /Library/Frameworks/R.framework/Resources/bin/R gcrma.buildbin-libdir StartedAt: 2025-02-10 00:54:24 -0500 (Mon, 10 Feb 2025) EndedAt: 2025-02-10 00:54:45 -0500 (Mon, 10 Feb 2025) EllapsedTime: 20.8 seconds RetCode: 0 Status: OK PackageFile: gcrma_2.79.0.tgz PackageFileSize: 388.8 KiB