Package: gcrma Version: 2.79.0 Command: /Library/Frameworks/R.framework/Resources/bin/R CMD build --keep-empty-dirs --no-resave-data gcrma StartedAt: 2025-02-09 16:49:26 -0500 (Sun, 09 Feb 2025) EndedAt: 2025-02-09 16:49:48 -0500 (Sun, 09 Feb 2025) EllapsedTime: 21.8 seconds RetCode: 0 Status: OK PackageFile: gcrma_2.79.0.tar.gz PackageFileSize: 288.4 KiB