Package: gcrma Version: 2.79.0 Command: /Library/Frameworks/R.framework/Resources/bin/R CMD check --install=check:gcrma.install-out.txt --library=/Library/Frameworks/R.framework/Resources/library --no-vignettes --timings gcrma_2.79.0.tar.gz StartedAt: 2025-02-09 20:49:29 -0500 (Sun, 09 Feb 2025) EndedAt: 2025-02-09 20:51:38 -0500 (Sun, 09 Feb 2025) EllapsedTime: 129.0 seconds RetCode: 0 Status: OK CheckDir: gcrma.Rcheck Warnings: 0