Package: gcrma Version: 2.79.0 Command: /Library/Frameworks/R.framework/Resources/bin/R CMD INSTALL gcrma StartedAt: 2025-02-09 15:09:42 -0500 (Sun, 09 Feb 2025) EndedAt: 2025-02-09 15:10:00 -0500 (Sun, 09 Feb 2025) EllapsedTime: 17.7 seconds RetCode: 0 Status: OK