Package: gcrma Version: 2.79.0 Command: /home/biocbuild/bbs-3.21-bioc/R/bin/R CMD INSTALL gcrma StartedAt: 2025-02-12 15:15:17 -0500 (Wed, 12 Feb 2025) EndedAt: 2025-02-12 15:15:29 -0500 (Wed, 12 Feb 2025) EllapsedTime: 11.8 seconds RetCode: 0 Status: OK