Package: gcrma Version: 2.79.0 Command: rm -rf gcrma.buildbin-libdir && mkdir gcrma.buildbin-libdir && E:\biocbuild\bbs-3.21-bioc\R\bin\R.exe CMD INSTALL --build --library=gcrma.buildbin-libdir gcrma_2.79.0.tar.gz StartedAt: 2025-02-10 07:47:21 -0500 (Mon, 10 Feb 2025) EndedAt: 2025-02-10 07:47:41 -0500 (Mon, 10 Feb 2025) EllapsedTime: 20.4 seconds RetCode: 0 Status: OK PackageFile: gcrma_2.79.0.zip PackageFileSize: 258.7 KiB