Package: gcrma Version: 2.79.0 Command: chmod a+r gcrma -R && E:\biocbuild\bbs-3.21-bioc\R\bin\R.exe CMD build --keep-empty-dirs --no-resave-data gcrma StartedAt: 2025-02-09 18:49:20 -0500 (Sun, 09 Feb 2025) EndedAt: 2025-02-09 18:49:47 -0500 (Sun, 09 Feb 2025) EllapsedTime: 27.8 seconds RetCode: 0 Status: OK PackageFile: gcrma_2.79.0.tar.gz PackageFileSize: 150.1 KiB