Package: gcrma Version: 2.79.0 Command: E:\biocbuild\bbs-3.21-bioc\R\bin\R.exe CMD check --no-multiarch --install=check:gcrma.install-out.txt --library=E:\biocbuild\bbs-3.21-bioc\R\library --no-vignettes --timings gcrma_2.79.0.tar.gz StartedAt: 2025-02-10 01:16:46 -0500 (Mon, 10 Feb 2025) EndedAt: 2025-02-10 01:18:54 -0500 (Mon, 10 Feb 2025) EllapsedTime: 128.6 seconds RetCode: 0 Status: OK CheckDir: gcrma.Rcheck Warnings: 0