Package: gcrma Version: 2.79.0 Command: E:\biocbuild\bbs-3.21-bioc\R\bin\R.exe CMD INSTALL gcrma StartedAt: 2025-02-09 15:40:21 -0500 (Sun, 09 Feb 2025) EndedAt: 2025-02-09 15:40:44 -0500 (Sun, 09 Feb 2025) EllapsedTime: 23.3 seconds RetCode: 0 Status: OK