Package: geNetClassifier Version: 1.47.0 Command: /Library/Frameworks/R.framework/Resources/bin/R CMD check --install=check:geNetClassifier.install-out.txt --library=/Library/Frameworks/R.framework/Resources/library --no-vignettes --timings geNetClassifier_1.47.0.tar.gz StartedAt: 2025-02-09 19:21:19 -0500 (Sun, 09 Feb 2025) EndedAt: 2025-02-09 19:21:46 -0500 (Sun, 09 Feb 2025) EllapsedTime: 27.4 seconds RetCode: 0 Status: OK CheckDir: geNetClassifier.Rcheck Warnings: 0