Package: geNetClassifier Version: 1.47.0 Command: /home/biocbuild/R/R/bin/R CMD build --keep-empty-dirs --no-resave-data geNetClassifier StartedAt: 2025-01-28 23:05:31 -0000 (Tue, 28 Jan 2025) EndedAt: 2025-01-28 23:05:52 -0000 (Tue, 28 Jan 2025) EllapsedTime: 21.0 seconds RetCode: 0 Status: OK PackageFile: geNetClassifier_1.47.0.tar.gz PackageFileSize: 3.927 MiB