Package: geNetClassifier Version: 1.47.0 Command: /Library/Frameworks/R.framework/Resources/bin/R CMD build --keep-empty-dirs --no-resave-data geNetClassifier StartedAt: 2025-02-09 16:51:26 -0500 (Sun, 09 Feb 2025) EndedAt: 2025-02-09 16:51:48 -0500 (Sun, 09 Feb 2025) EllapsedTime: 21.7 seconds RetCode: 0 Status: OK PackageFile: geNetClassifier_1.47.0.tar.gz PackageFileSize: 3.939 MiB