Package: genArise Version: 1.83.0 Command: /Library/Frameworks/R.framework/Resources/bin/R CMD build --keep-empty-dirs --no-resave-data genArise StartedAt: 2025-02-09 16:23:37 -0500 (Sun, 09 Feb 2025) EndedAt: 2025-02-09 16:23:44 -0500 (Sun, 09 Feb 2025) EllapsedTime: 7.1 seconds RetCode: 0 Status: OK PackageFile: genArise_1.83.0.tar.gz PackageFileSize: 1.025 MiB