Package: genArise Version: 1.83.0 Command: /home/biocbuild/R/R/bin/R CMD build --keep-empty-dirs --no-resave-data genArise StartedAt: 2025-01-28 23:03:19 -0000 (Tue, 28 Jan 2025) EndedAt: 2025-01-28 23:03:34 -0000 (Tue, 28 Jan 2025) EllapsedTime: 14.0 seconds RetCode: 0 Status: OK PackageFile: genArise_1.83.0.tar.gz PackageFileSize: 1.025 MiB