Package: genArise Version: 1.83.0 Command: rm -rf genArise.buildbin-libdir && mkdir genArise.buildbin-libdir && /Users/biocbuild/BBS/utils/build-universal.sh genArise_1.83.0.tar.gz /Library/Frameworks/R.framework/Resources/bin/R genArise.buildbin-libdir StartedAt: 2025-02-10 00:54:38 -0500 (Mon, 10 Feb 2025) EndedAt: 2025-02-10 00:54:55 -0500 (Mon, 10 Feb 2025) EllapsedTime: 16.3 seconds RetCode: 0 Status: OK PackageFile: genArise_1.83.0.tgz PackageFileSize: 1.242 MiB