Package: genArise Version: 1.83.0 Command: /Library/Frameworks/R.framework/Resources/bin/R CMD INSTALL genArise StartedAt: 2025-02-12 15:06:18 -0500 (Wed, 12 Feb 2025) EndedAt: 2025-02-12 15:06:52 -0500 (Wed, 12 Feb 2025) EllapsedTime: 33.5 seconds RetCode: 0 Status: OK