Package: genArise Version: 1.83.0 Command: rm -rf genArise.buildbin-libdir && mkdir genArise.buildbin-libdir && E:\biocbuild\bbs-3.21-bioc\R\bin\R.exe CMD INSTALL --build --library=genArise.buildbin-libdir genArise_1.83.0.tar.gz StartedAt: 2025-02-10 07:47:49 -0500 (Mon, 10 Feb 2025) EndedAt: 2025-02-10 07:48:15 -0500 (Mon, 10 Feb 2025) EllapsedTime: 26.2 seconds RetCode: 0 Status: OK PackageFile: genArise_1.83.0.zip PackageFileSize: 1.047 MiB