Package: genArise Version: 1.83.0 Command: chmod a+r genArise -R && E:\biocbuild\bbs-3.21-bioc\R\bin\R.exe CMD build --keep-empty-dirs --no-resave-data genArise StartedAt: 2025-02-09 18:50:57 -0500 (Sun, 09 Feb 2025) EndedAt: 2025-02-09 18:51:18 -0500 (Sun, 09 Feb 2025) EllapsedTime: 21.6 seconds RetCode: 0 Status: OK PackageFile: genArise_1.83.0.tar.gz PackageFileSize: 843.7 KiB