Package: genArise Version: 1.83.0 Command: E:\biocbuild\bbs-3.21-bioc\R\bin\R.exe CMD check --no-multiarch --install=check:genArise.install-out.txt --library=E:\biocbuild\bbs-3.21-bioc\R\library --no-vignettes --timings genArise_1.83.0.tar.gz StartedAt: 2025-02-10 01:20:15 -0500 (Mon, 10 Feb 2025) EndedAt: 2025-02-10 01:21:00 -0500 (Mon, 10 Feb 2025) EllapsedTime: 44.2 seconds RetCode: 0 Status: WARNINGS CheckDir: genArise.Rcheck Warnings: 1