Package: genArise Version: 1.83.0 Command: E:\biocbuild\bbs-3.21-bioc\R\bin\R.exe CMD INSTALL genArise StartedAt: 2025-02-09 15:25:00 -0500 (Sun, 09 Feb 2025) EndedAt: 2025-02-09 15:25:26 -0500 (Sun, 09 Feb 2025) EllapsedTime: 25.9 seconds RetCode: 0 Status: OK