Package: geneRxCluster Version: 1.43.0 Command: rm -rf geneRxCluster.buildbin-libdir && mkdir geneRxCluster.buildbin-libdir && /Users/biocbuild/BBS/utils/build-universal.sh geneRxCluster_1.43.0.tar.gz /Library/Frameworks/R.framework/Resources/bin/R geneRxCluster.buildbin-libdir StartedAt: 2025-02-09 22:15:26 -0500 (Sun, 09 Feb 2025) EndedAt: 2025-02-09 22:15:32 -0500 (Sun, 09 Feb 2025) EllapsedTime: 5.1 seconds RetCode: 0 Status: OK PackageFile: geneRxCluster_1.43.0.tgz PackageFileSize: 338.1 KiB