Package: geneRxCluster Version: 1.43.0 Command: /Library/Frameworks/R.framework/Resources/bin/R CMD INSTALL geneRxCluster StartedAt: 2025-02-09 15:04:00 -0500 (Sun, 09 Feb 2025) EndedAt: 2025-02-09 15:04:04 -0500 (Sun, 09 Feb 2025) EllapsedTime: 4.3 seconds RetCode: 0 Status: OK