Package: geneRxCluster Version: 1.43.0 Command: E:\biocbuild\bbs-3.21-bioc\R\bin\R.exe CMD check --no-multiarch --install=check:geneRxCluster.install-out.txt --library=E:\biocbuild\bbs-3.21-bioc\R\library --no-vignettes --timings geneRxCluster_1.43.0.tar.gz StartedAt: 2025-02-10 01:22:46 -0500 (Mon, 10 Feb 2025) EndedAt: 2025-02-10 01:24:20 -0500 (Mon, 10 Feb 2025) EllapsedTime: 94.4 seconds RetCode: 0 Status: OK CheckDir: geneRxCluster.Rcheck Warnings: 0